Workbook

Sheet PSY
A7: Zusatzgrafiken | Graphiques supplémentaires | Grafici aggiuntivi
A8: Psychiatriespezifische Messungen 2025
A9: Mesures spécifiques à la psychiatrie 2025
A10: Misurazioni specifiche per la psichiatria 2025
A22: w hoch 2 GmbH
A23: Research Analysis & Consulting

Sheet Inhalt
B1: Inhaltsverzeichnis | C1: Sommaire | D1: Indice
B4: Kliniken der Akut- und Grundversorgung | C4: Clinique de soins aigus et de premier recours | D4: Fornitori di prestazioni di base e della medicina acuta
A5: 1A | B5: Stichprobenbeschreibung | C5: Description de l'échantillon | D5: Descrizione del campione
A6: 1B | B6: Datenqualität | C6: Qualité des données | D6: Qualità dei dati
A7: 1C | B7: Symptombelastung | C7: Importance des symptômes | D7: Peso dei sintomi
A8: 1D | B8: Freiheitsbeschränkende Massnahmen | C8: Mesures limitatives de liberté | D8: Misura restrittiva della libertà
A9: 1E | B9: Analyse der Kovariablen und Modellspezifikation der Symptombelastung | C9: Analyse des covariables et des spécifications du modèle concernant la charge symptomatique | D9: Analisi delle covariabili e delle specifiche del modello relative al carico sintomatico
B12: Kliniken mit Schwerpunktversorgung | C12: Clinique de psychiatrie spécialisée | D12: Cliniche specializzate
A13: 2A | B13: =B5 -> Stichprobenbeschreibung | C13: =C5 -> Description de l'échantillon | D13: =D5 -> Descrizione del campione
A14: 2B | B14: =B6 -> Datenqualität | C14: =C6 -> Qualité des données | D14: =D6 -> Qualità dei dati
A15: 2C | B15: =B7 -> Symptombelastung | C15: =C7 -> Importance des symptômes | D15: =D7 -> Peso dei sintomi
A16: 2D | B16: =B8 -> Freiheitsbeschränkende Massnahmen | C16: =C8 -> Mesures limitatives de liberté | D16: =D8 -> Misura restrittiva della libertà
A17: 2E | B17: =B9 -> Analyse der Kovariablen und Modellspezifikation der Symptombelastung | C17: =C9 -> Analyse des covariables et des spécifications du modèle concernant la charge symptomatique | D17: =D9 -> Analisi delle covariabili e delle specifiche del modello relative al carico sintomatico
B20: Kliniken zur Behandlung von Abhängigkeitserkrankungen | C20: Cliniques spécialisées dans le traitement des maladies de la dépendance | D20: Cliniche per la cura di dipendenze
A21: 3A | B21: =B5 -> Stichprobenbeschreibung | C21: =C5 -> Description de l'échantillon | D21: =D5 -> Descrizione del campione
A22: 3B | B22: =B14 -> Datenqualität | C22: =C14 -> Qualité des données | D22: =D14 -> Qualità dei dati
A23: 3C | B23: =B15 -> Symptombelastung | C23: =C15 -> Importance des symptômes | D23: =D15 -> Peso dei sintomi
A24: 3D | B24: =B16 -> Freiheitsbeschränkende Massnahmen | C24: =C16 -> Mesures limitatives de liberté | D24: =D16 -> Misura restrittiva della libertà
A25: 3E | B25: =B17 -> Analyse der Kovariablen und Modellspezifikation der Symptombelastung | C25: =C17 -> Analyse des covariables et des spécifications du modèle concernant la charge symptomatique | D25: =D17 -> Analisi delle covariabili e delle specifiche del modello relative al carico sintomatico
B28: Kliniken der forensischen Psychiatrie | C28: Cliniques de psychiatrie forensique | D28: Cliniche di psichiatria forense
A29: 4A | B29: =B5 -> Stichprobenbeschreibung | C29: =C5 -> Description de l'échantillon | D29: =D5 -> Descrizione del campione
A30: 4B | B30: =B22 -> Datenqualität | C30: =C22 -> Qualité des données | D30: =D22 -> Qualità dei dati
A31: 4C | B31: =B23 -> Symptombelastung | C31: =C23 -> Importance des symptômes | D31: =D23 -> Peso dei sintomi
A32: 4D | B32: =B24 -> Freiheitsbeschränkende Massnahmen | C32: =C24 -> Mesures limitatives de liberté | D32: =D24 -> Misura restrittiva della libertà
A33: 4E | B33: =B25 -> Analyse der Kovariablen und Modellspezifikation der Symptombelastung | C33: =C25 -> Analyse des covariables et des spécifications du modèle concernant la charge symptomatique | D33: =D25 -> Analisi delle covariabili e delle specifiche del modello relative al carico sintomatico
B36: Alterspsychiatrie | C36: Psychiatrie gériatrique | D36: Psichiatria geriatrica
A37: 5A | B37: =B5 -> Stichprobenbeschreibung | C37: =C5 -> Description de l'échantillon | D37: =D5 -> Descrizione del campione
A38: 5B | B38: =B30 -> Datenqualität | C38: =C30 -> Qualité des données | D38: =D30 -> Qualità dei dati
A39: 5C | B39: =B31 -> Symptombelastung | C39: =C31 -> Importance des symptômes | D39: =D31 -> Peso dei sintomi
A40: 5D | B40: =B32 -> Freiheitsbeschränkende Massnahmen | C40: =C32 -> Mesures limitatives de liberté | D40: =D32 -> Misura restrittiva della libertà
A41: 5E | B41: =B33 -> Analyse der Kovariablen und Modellspezifikation der Symptombelastung | C41: =C33 -> Analyse des covariables et des spécifications du modèle concernant la charge symptomatique | D41: =D33 -> Analisi delle covariabili e delle specifiche del modello relative al carico sintomatico
B44: Kinder- und Jugendpsychiatrie | C44: Psychiatrie d'enfants et d'adolescents | D44: Psichiatria infantile e adolescenziale
A45: 6A | B45: =B5 -> Stichprobenbeschreibung | C45: =C5 -> Description de l'échantillon | D45: =D5 -> Descrizione del campione
A46: 6B | B46: =B6 -> Datenqualität | C46: =C6 -> Qualité des données | D46: =D6 -> Qualità dei dati
A47: 6C | B47: =B7 -> Symptombelastung | C47: =C7 -> Importance des symptômes | D47: =D7 -> Peso dei sintomi
A48: 6D | B48: =B8 -> Freiheitsbeschränkende Massnahmen | C48: =C8 -> Mesures limitatives de liberté | D48: =D8 -> Misura restrittiva della libertà
A49: 6E | B49: =B9 -> Analyse der Kovariablen und Modellspezifikation der Symptombelastung | C49: =C9 -> Analyse des covariables et des spécifications du modèle concernant la charge symptomatique | D49: =D9 -> Analisi delle covariabili e delle specifiche del modello relative al carico sintomatico

Sheet 1A
A1: =Inhalt!A5 -> 1A | B1: =Inhalt!B5 -> Stichprobenbeschreibung | C1: =Inhalt!C5 -> Description de l'échantillon | D1: =Inhalt!D5 -> Descrizione del campione
B2: =Inhalt!B4 -> Kliniken der Akut- und Grundversorgung | C2: =Inhalt!C4 -> Clinique de soins aigus et de premier recours | D2: =Inhalt!D4 -> Fornitori di prestazioni di base e della medicina acuta
E4: 2025 | F4: 2024
B5: Behandlungsfälle (Anzahl) | C5: Cas (nombre) | D5: Casi (numero) | E5: 60852 | F5: 60310
B6: Geschlecht (in %) | C6: Sexe (en %) | D6: Sesso (in %)
B7: Weiblich | C7: Féminin | D7: femminile | E7: 47.1 | F7: 47.1
B8: Männlich | C8: Masculin | D8: maschile | E8: 52.9 | F8: 52.9
B9: Alter bei Eintritt (Mittelwert in Jahren) | C9: Âge lors de l'admission (moyenne en années) | D9: Età all'ammissione (valore medio in anni) | E9: 40 | F9: 40.6
B10: Nationalität (in %) | C10: Nationalité (en %) | D10: Nazionalità (in %)
B11: Schweiz | C11: Suisse | D11: Svizzera | E11: 68.8 | F11: 70
B12: Andere Nationalitäten | C12: Autres nationalités | D12: Altre nazionalità | E12: 28.5 | F12: 26.1
B13: Aufenthaltsdauer (Mittelwert, SD in Tagen) | C13: Durée d’hospitalisation (moyenne, écart-type en jours) | D13: Durata della degenza (valore medio, deviazione standard in giorni) | E13: 25.5 (31.1) | F13: 25.3 (30.8)
B14: Behandlungsklasse (in %) | C14: Catégorie de prise en charge (en %) | D14: Categoria di degenza (in %)
B15: Allgemein | C15: Chambre commune | D15: Comune | E15: 96.3 | F15: 96.4
B16: Halbprivat | C16: Semi-privé | D16: Semiprivata | E16: 2.3 | F16: 2.3
B17: Privat | C17: Privé | D17: Privata | E17: 1.1 | F17: 1.2
B18: Aufenthaltsort vor dem Eintritt (in %) | C18: Séjour avant l'admission (en %) | D18: Luogo di residenza prima dell'ammissione (in %)
B19: Zuhause | C19: À la maison | D19: Domicilio | E19: 59 | F19: 59.2
B20: Anderes Krankenhaus (Akutspital) oder Geburtshaus | C20: Autre hôpital (soins aigus) ou maison de naissance | D20: Altro istituto ospedaliero (ospedale acuto) o casa per partorienti | E20: 16.5 | F20: 16
B21: Strafvollzugsanstalt | C21: Établissement d'éxécution des peines | D21: Penitenziario | E21: 0.6 | F21: 0.5
B22: Andere | C22: Autre | D22: Altro | E22: 23.9 | F22: 24.3
B23: Häufigste Hauptdiagnosen (in %) | C23: Diagnostics principaux les plus fréquents (en %) | D23: Diagnosi principali più frequenti (in %)
B24: F3 - Affektive Störungen | C24: F3 - Troubles de l'humeur (affectifs) | D24: F3 - Disturbi dell'umore | E24: 30.4 | F24: 29.2
B25: F1 - Psychische Störungen durch psychotrope Substanzen | C25: F1 - Troubles mentaux par substances psycho-actives | D25: F1 - Disturbi psichici e comportamenti da uso di sostanze psicoattive | E25: 23.6 | F25: 23.3
B26: F2 - Schizophrene, schizotype und wahnhafte Störungen | C26: F2 - Schizophrénie, troubles schizotypiques et troubles délirants | D26: F2 - Schizofrenia, disturbo schizotipico e disturbi deliranti | E26: 19.2 | F26: 20.1
B27: Anzahl Nebendiagnosen (in %) | C27: Nombre de diagnostics supplémentaires (en %) | D27: Numero di diagnosi secondarie (in %)
B28: 0 | C28: 0 | D28: 0 | E28: 14.2 | F28: 15.2
B29: 1 | C29: 1 | D29: 1 | E29: 16.1 | F29: 16.1
B30: 2 | C30: 2 | D30: 2 | E30: 16.4 | F30: 16.6
B31: 3 | C31: 3 | D31: 3 | E31: 13.7 | F31: 13.9
B32: 4 | C32: 4 | D32: 4 | E32: 10.8 | F32: 11
B33: 5 | C33: 5 | D33: 5 | E33: 8.2 | F33: 8.2
B34: 6 | C34: 6 | D34: 6 | E34: 6.1 | F34: 6
B35: 7 | C35: 7 | D35: 7 | E35: 4.3 | F35: 4.1
B36: 8 | C36: 8 | D36: 8 | E36: 10.1 | F36: 8.9
B37: Schweregrad bei Eintritt - HoNOS Gesamtscore (Mittelwert, SD) | C37: Gravité à l’admission - score global HoNOS (moyenne, écart-type) | D37: Grado di gravità all'ammissione - punteggio complessivo HoNOS (valore medio, deviazione standard) | E37: 20.5 (7.2) | F37: 20.4 (7.3)
B38: Schweregrad bei Eintritt - BSCL Gesamtscore (Mittelwert, SD) | C38: Gravité à l’admission - score global BSCL (moyenne, écart-type) | D38: Grado di gravità all'ammissione - punteggio complessivo BSCL (valore medio, deviazione standard) | E38: 75.9 (42.6) | F38: 76.6 (42.4)
B39: Fürsorgerische Unterbringung (FU) bei Eintritt (in %) | C39: Placement à des fins d’assistance (PAFA) à l’admission (en %) | D39: Ricovero a scopo di assistenza (RSA) (in %) | E39: 24.6 | F39: 24.7
B40: Einweisende Instanz (in %) | C40: Instance décisionnaire de l’hospitalisation (en %) | D40: Istanza ricoverante (in %)
B41: Selbst, Angehörige | C41: Initiative propre, proches | D41: Paziente stesso, familiare | E41: 22 | F41: 22.3
...

Sheet 1B
A1: =Inhalt!A6 -> 1B | B1: =Inhalt!B6 -> Datenqualität | C1: =Inhalt!C6 -> Qualité des données | D1: =Inhalt!D6 -> Qualità dei dati
B2: =Inhalt!B4 -> Kliniken der Akut- und Grundversorgung | C2: =Inhalt!C4 -> Clinique de soins aigus et de premier recours | D2: =Inhalt!D4 -> Fornitori di prestazioni di base e della medicina acuta

Sheet 1C
A1: =Inhalt!A7 -> 1C | B1: =Inhalt!B7 -> Symptombelastung | C1: =Inhalt!C7 -> Importance des symptômes | D1: =Inhalt!D7 -> Peso dei sintomi
B2: =Inhalt!B4 -> Kliniken der Akut- und Grundversorgung | C2: =Inhalt!C4 -> Clinique de soins aigus et de premier recours | D2: =Inhalt!D4 -> Fornitori di prestazioni di base e della medicina acuta

Sheet 1D
A1: =Inhalt!A8 -> 1D | B1: =Inhalt!B8 -> Freiheitsbeschränkende Massnahmen | C1: =Inhalt!C8 -> Mesures limitatives de liberté | D1: =Inhalt!D8 -> Misura restrittiva della libertà
B2: =Inhalt!B4 -> Kliniken der Akut- und Grundversorgung | C2: =Inhalt!C4 -> Clinique de soins aigus et de premier recours | D2: =Inhalt!D4 -> Fornitori di prestazioni di base e della medicina acuta

Sheet 1E
A1: =Inhalt!A9 -> 1E | B1: =Inhalt!B9 -> Analyse der Kovariablen und Modellspezifikation der Symptombelastung | C1: =Inhalt!C9 -> Analyse des covariables et des spécifications du modèle concernant la charge symptomatique | D1: =Inhalt!D9 -> Analisi delle covariabili e delle specifiche del modello relative al carico sintomatico
B2: =Inhalt!B4 -> Kliniken der Akut- und Grundversorgung | C2: =Inhalt!C4 -> Clinique de soins aigus et de premier recours | D2: =Inhalt!D4 -> Fornitori di prestazioni di base e della medicina acuta
B4: Messergebnis Symptombelastung: HoNOS Vergleichsgrösse
B5: Für die mit dem HoNOS gemessene Symptombelastungsreduktion wurden folgende Kovariablen berücksichtigt: HoNOS Gesamt (Eintrittswert), Diagnosegruppe, Alter bei Eintritt, Geschlecht, Nationalität, Zivilstand, Bildungsstand, Beschäftigung vor Eintritt, Aufenthaltsort vor Eintritt, einweisende Instanz, FU, Behandlungsklasse, Aufenthaltsdauer, Anzahl Nebendiagnosen und Behandlungsbereich. Es wurden alle Kovariablen und sämtliche Interaktionen erster Ordnung ins Modell aufgenommen. Insgesamt wurden durch alle Variablen zusammen mit dem Klinikfaktor und den Interaktionen 40.5 % der Varianz (R2adj) des Messergebnisses im HoNOS aufgeklärt.
B7: Messergebnis Symptombelastung: BSCL Vergleichsgrösse
B8: Für die mit dem BSCL gemessene Symptombelastungsreduktion wurden folgende Kovariablen berücksichtigt: BSCL Gesamt (Eintrittswert), Diagnosegruppe, Alter bei Eintritt, Geschlecht, Nationalität, Zivilstand, Bildungsstand, Beschäftigung vor Eintritt, Aufenthaltsort vor Eintritt, einweisende Instanz, FU, Behandlungsklasse, Aufenthaltsdauer, Anzahl Nebendiagnosen und Behandlungsbereich. Es wurden alle vorhandenen Kovariablen und sämtliche Interaktionen erster Ordnung ins Modell aufgenommen. Durch die geprüften Kovariablen zusammen mit dem Klinikfaktor und den Interaktionen konnten 34.1% der Varianz (R2adj) aufgeklärt werden.
B10: Résultats de mesure pour l’importance des symptômes : valeurs de comparaison HoNOS
B11: Les covariables suivantes ont été prises en compte pour la réduction de l’importance des symptômes mesurée par le HoNOS : HoNOS global (valeur à l’admission), diagnostic principal, âge à l’admission, sexe, nationalité, état civil, niveau d’éducation, occupation avant l’admission, lieu de séjour avant l’admission, décision d’envoi, PAFA, classe de traitement, durée de séjour, nombre des diagnostics supplémentaires et domaine de traitement. Toutes les covariables et toutes les interactions de premier ordre ont été incluses dans le modèle. Au total, toutes les variables, le facteur clinique et les interactions ont permis d'expliquer 40.5% de la variance (R2adj) du résultat de mesure pour HoNOS.
B13: Résultats de mesure pour l’importance des symptômes : valeurs de comparaison BSCL
B14: Les covariables suivantes ont été prises en compte pour la réduction de l’importance des symptômes mesurée par le BSCL : BSCL global (valeur à l’admission), diagnostic principal, âge à l’admission, sexe, nationalité, état civil, niveau d’éducation, occupation avant l’admission, lieu de séjour avant l’admission, décision d’envoi, PAFA, classe de traitement, durée de séjour, nombre des diagnostics supplémentaires et domaine de traitement. Toutes les covariables et toutes les interactions de premier ordre ont été incluses dans le modèle. Au total, toutes les variables, le facteur clinique et les interactions ont permis d'expliquer 34.1% de la variance (R2adj) du résultat de mesure pour BSCL.
B16: Risultato della misurazione del peso dei sintomi: valore comparativo HoNOS
B17: Per la riduzione del peso dei sintomi misurata con l’HoNOS sono state considerate le seguenti covariate: HoNOS complessivo (valore all’ammissione), gruppo di diagnosi, età all’ammissione, sesso, nazionalità, stato civile, istruzione, occupazione prima dell’ammissione, luogo di soggiorno prima dell’ammissione, istanza ricoverante, RSA, classe di cura, durata della degenza, numero di diagnosi secondarie e campo di attività. Nel modello sono state incluse tutte le covariate e le interazioni di primo grado disponibili. Nel complesso, le variabili, il fattore clinico e le interazioni hanno consentito di spiegare il 40.5% della varianza (R2adj) del risultato della misurazione con l’HoNOS.
B19: Risultato della misurazione del peso dei sintomi: valore comparativo BSCL
B20: Per la riduzione del peso dei sintomi misurata con la BSCL sono state considerate le seguenti covariate: BSCL complessiva (valore all’ammissione), gruppo di diagnosi, età all’ammissione, sesso, nazionalità, stato civile, istruzione, occupazione prima dell’ammissione, luogo di soggiorno prima dell’ammissione, istanza ricoverante, RSA, classe di cura, durata della degenza, numero di diagnosi secondarie e campo di attività. Nel modello sono state incluse tutte le covariate presenti e tutte le interazioni di primo grado disponibili. Le covariate esaminate, il fattore clinico e le interazioni hanno consentito di spiegare il 34.1% della varianza (R2adj).

Sheet 2A
A1: =Inhalt!A13 -> 2A | B1: =Inhalt!B13 -> Stichprobenbeschreibung | C1: =Inhalt!C13 -> Description de l'échantillon | D1: =Inhalt!D13 -> Descrizione del campione
B2: =Inhalt!B12 -> Kliniken mit Schwerpunktversorgung | C2: =Inhalt!C12 -> Clinique de psychiatrie spécialisée | D2: =Inhalt!D12 -> Cliniche specializzate
E4: 2025 | F4: 2024
B5: Behandlungsfälle (Anzahl) | C5: Cas (nombre) | D5: Casi (numero) | E5: 12420 | F5: 12900
B6: Geschlecht (in %) | C6: Sexe (en %) | D6: Sesso (in %)
B7: Weiblich | C7: Féminin | D7: femminile | E7: 64.1 | F7: 63.5
B8: Männlich | C8: Masculin | D8: maschile | E8: 35.9 | F8: 36.5
B9: Alter bei Eintritt (Mittelwert in Jahren) | C9: Âge lors de l'admission (moyenne en années) | D9: Età all'ammissione (valore medio in anni) | E9: 46.3 | F9: 46.3
B10: Nationalität (in %) | C10: Nationalité (en %) | D10: Nazionalità (in %)
B11: Schweiz | C11: Suisse | D11: Svizzera | E11: 82.3 | F11: 79.9
B12: Andere Nationalitäten | C12: Autres nationalités | D12: Altre nazionalità | E12: 16.2 | F12: 17.1
B13: Aufenthaltsdauer (Mittelwert, SD in Tagen) | C13: Durée d’hospitalisation (moyenne, écart-type en jours) | D13: Durata della degenza (valore medio, deviazione standard in giorni) | E13: 42.4 (27.3) | F13: 42.6 (32.0)
B14: Behandlungsklasse (in %) | C14: Catégorie de prise en charge (en %) | D14: Categoria di degenza (in %)
B15: Allgemein | C15: Chambre commune | D15: Comune | E15: 82.4 | F15: 82.2
B16: Halbprivat | C16: Semi-privé | D16: Semiprivata | E16: 12.2 | F16: 12.4
B17: Privat | C17: Privé | D17: Privata | E17: 5.3 | F17: 5.3
B18: Aufenthaltsort vor dem Eintritt (in %) | C18: Séjour avant l'admission (en %) | D18: Luogo di residenza prima dell'ammissione (in %)
B19: Zuhause | C19: À la maison | D19: Domicilio | E19: 89.2 | F19: 87.4
B20: Anderes Krankenhaus (Akutspital) oder Geburtshaus | C20: Autre hôpital (soins aigus) ou maison de naissance | D20: Altro istituto ospedaliero (ospedale acuto) o casa per partorienti | E20: 3.7 | F20: 4.2
B21: Strafvollzugsanstalt | C21: Établissement d'éxécution des peines | D21: Penitenziario | E21: 0 | F21: 0
B22: Andere | C22: Autre | D22: Altro | E22: 7 | F22: 8.4
B23: Häufigste Hauptdiagnosen (in %) | C23: Diagnostics principaux les plus fréquents (en %) | D23: Diagnosi principali più frequenti (in %)
B24: F3 - Affektive Störungen | C24: F3 - Troubles de l'humeur (affectifs) | D24: F3 - Disturbi dell'umore | E24: 60.5 | F24: 59.3
B25: F4 - Neurotische, Belastungs- und somatoforme Störung | C25: F4 - Troubles névrotiques | D25: F4 - Disturbi nevrotici, legati a stress e somatoformi | E25: 16.2 | F25: 16.2
B26: F1 - Psychische Störungen durch psychotrope Substanzen | C26: F1 - Troubles mentaux par substances psycho-actives | D26: F1 - Disturbi psichici e comportamenti da uso di sostanze psicoattive | E26: 7 | F26: 8.6
B27: Anzahl Nebendiagnosen (in %) | C27: Nombre de diagnostics supplémentaires (en %) | D27: Numero di diagnosi secondarie (in %)
B28: 0 | C28: 0 | D28: 0 | E28: 7.9 | F28: 9.3
B29: 1 | C29: 1 | D29: 1 | E29: 14 | F29: 14.8
B30: 2 | C30: 2 | D30: 2 | E30: 15.7 | F30: 16.1
B31: 3 | C31: 3 | D31: 3 | E31: 14.2 | F31: 14.8
B32: 4 | C32: 4 | D32: 4 | E32: 12.1 | F32: 12.7
B33: 5 | C33: 5 | D33: 5 | E33: 10.1 | F33: 9.7
B34: 6 | C34: 6 | D34: 6 | E34: 7.4 | F34: 6.7
B35: 7 | C35: 7 | D35: 7 | E35: 5.3 | F35: 5
B36: 8 | C36: 8 | D36: 8 | E36: 13.3 | F36: 10.9
B37: Schweregrad bei Eintritt - HoNOS Gesamtscore (Mittelwert, SD) | C37: Gravité à l’admission - score global HoNOS (moyenne, écart-type) | D37: Grado di gravità all'ammissione - punteggio complessivo HoNOS (valore medio, deviazione standard) | E37: 16.3 (6.3) | F37: 16.2 (6.4)
B38: Schweregrad bei Eintritt - BSCL Gesamtscore (Mittelwert, SD) | C38: Gravité à l’admission - score global BSCL (moyenne, écart-type) | D38: Grado di gravità all'ammissione - punteggio complessivo BSCL (valore medio, deviazione standard) | E38: 72.0 (37.1) | F38: 73.4 (37.7)
B39: Fürsorgerische Unterbringung (FU) bei Eintritt (in %) | C39: Placement à des fins d’assistance (PAFA) à l’admission (en %) | D39: Ricovero a scopo di assistenza (RSA) (in %) | E39: 4.7 | F39: 4.3
B40: Einweisende Instanz (in %) | C40: Instance décisionnaire de l’hospitalisation (en %) | D40: Istanza ricoverante (in %)
B41: Selbst, Angehörige | C41: Initiative propre, proches | D41: Paziente stesso, familiare | E41: 8 | F41: 8.2
...

Sheet 2B
A1: =Inhalt!A14 -> 2B | B1: =Inhalt!B14 -> Datenqualität | C1: =Inhalt!C14 -> Qualité des données | D1: =Inhalt!D14 -> Qualità dei dati
B2: =Inhalt!B12 -> Kliniken mit Schwerpunktversorgung | C2: =Inhalt!C12 -> Clinique de psychiatrie spécialisée | D2: =Inhalt!D12 -> Cliniche specializzate

Sheet 2C
A1: =Inhalt!A15 -> 2C | B1: =Inhalt!B15 -> Symptombelastung | C1: =Inhalt!C15 -> Importance des symptômes | D1: =Inhalt!D15 -> Peso dei sintomi
B2: =Inhalt!B12 -> Kliniken mit Schwerpunktversorgung | C2: =Inhalt!C12 -> Clinique de psychiatrie spécialisée | D2: =Inhalt!D12 -> Cliniche specializzate

Sheet 2D
A1: =Inhalt!A16 -> 2D | B1: =Inhalt!B16 -> Freiheitsbeschränkende Massnahmen | C1: =Inhalt!C16 -> Mesures limitatives de liberté | D1: =Inhalt!D16 -> Misura restrittiva della libertà
B2: =Inhalt!B12 -> Kliniken mit Schwerpunktversorgung | C2: =Inhalt!C12 -> Clinique de psychiatrie spécialisée | D2: =Inhalt!D12 -> Cliniche specializzate

Sheet 2E
A1: =Inhalt!A17 -> 2E | B1: =Inhalt!B9 -> Analyse der Kovariablen und Modellspezifikation der Symptombelastung | C1: =Inhalt!C9 -> Analyse des covariables et des spécifications du modèle concernant la charge symptomatique | D1: =Inhalt!D9 -> Analisi delle covariabili e delle specifiche del modello relative al carico sintomatico
B2: =Inhalt!B12 -> Kliniken mit Schwerpunktversorgung | C2: =Inhalt!C12 -> Clinique de psychiatrie spécialisée | D2: =Inhalt!D12 -> Cliniche specializzate
B4: Messergebnis Symptombelastung: HoNOS Vergleichsgrösse
B5: Für die mit dem HoNOS gemessene Symptombelastungsreduktion wurden folgende Kovariablen berücksichtigt: HoNOS Gesamt (Eintrittswert), Diagnosegruppe, Alter bei Eintritt, Geschlecht, Nationalität, Zivilstand, Bildungsstand, Beschäftigung vor Eintritt, Aufenthaltsort vor Eintritt, einweisende Instanz, FU, Behandlungsklasse, Aufenthaltsdauer, Anzahl Nebendiagnosen und Behandlungsbereich. Es wurden alle Kovariablen und sämtliche Interaktionen erster Ordnung ins Modell aufgenommen. Insgesamt wurden durch alle Variablen zusammen mit dem Klinikfaktor und den Interaktionen 39.2% der Varianz (R2adj) des Messergebnisses im HoNOS aufgeklärt.
B7: Messergebnis Symptombelastung: BSCL Vergleichsgrösse
B8: Für die mit dem BSCL gemessene Symptombelastungsreduktion wurden folgende Kovariablen berücksichtigt: BSCL Gesamt (Eintrittswert), Diagnosegruppe, Alter bei Eintritt, Geschlecht, Nationalität, Zivilstand, Bildungsstand, Beschäftigung vor Eintritt, Aufenthaltsort vor Eintritt, einweisende Instanz, FU, Behandlungsklasse, Aufenthaltsdauer, Anzahl Nebendiagnosen und Behandlungsbereich. Es wurden alle vorhandenen Kovariablen und sämtliche Interaktionen erster Ordnung ins Modell aufgenommen. Durch die geprüften Kovariablen zusammen mit dem Klinikfaktor und den Interaktionen konnten 30.2% der Varianz (R2adj) aufgeklärt werden.
B10: Résultats de mesure pour l’importance des symptômes : valeurs de comparaison HoNOS
B11: Les covariables suivantes ont été prises en compte pour la réduction de l’importance des symptômes mesurée par le HoNOS : HoNOS global (valeur à l’admission), diagnostic principal, âge à l’admission, sexe, nationalité, état civil, niveau d’éducation, occupation avant l’admission, lieu de séjour avant l’admission, décision d’envoi, PAFA, classe de traitement, durée de séjour, nombre des diagnostics supplémentaires et domaine de traitement. Toutes les covariables et toutes les interactions de premier ordre ont été incluses dans le modèle. Au total, toutes les variables, le facteur clinique et les interactions ont permis d'expliquer 39.2% de la variance (R2adj) du résultat de mesure pour HoNOS.
B13: Résultats de mesure pour l’importance des symptômes : valeurs de comparaison BSCL
B14: Les covariables suivantes ont été prises en compte pour la réduction de l’importance des symptômes mesurée par le BSCL : BSCL global (valeur à l’admission), diagnostic principal, âge à l’admission, sexe, nationalité, état civil, niveau d’éducation, occupation avant l’admission, lieu de séjour avant l’admission, décision d’envoi, PAFA, classe de traitement, durée de séjour, nombre des diagnostics supplémentaires et domaine de traitement. Toutes les covariables et toutes les interactions de premier ordre ont été incluses dans le modèle. Au total, toutes les variables, le facteur clinique et les interactions ont permis d'expliquer 30.2% de la variance (R2adj) du résultat de mesure pour BSCL.
B16: Risultato della misurazione del peso dei sintomi: valore comparativo HoNOS
B17: Per la riduzione del peso dei sintomi misurata con l’HoNOS sono state considerate le seguenti covariate: HoNOS complessivo (valore all’ammissione), gruppo di diagnosi, età all’ammissione, sesso, nazionalità, stato civile, istruzione, occupazione prima dell’ammissione, luogo di soggiorno prima dell’ammissione, istanza ricoverante, RSA, classe di cura, durata della degenza, numero di diagnosi secondarie e campo di attività. Nel modello sono state incluse tutte le covariate e le interazioni di primo grado disponibili. Nel complesso, le variabili, il fattore clinico e le interazioni hanno consentito di spiegare il 39.2% della varianza (R2adj) del risultato della misurazione con l’HoNOS.
B19: Risultato della misurazione del peso dei sintomi: valore comparativo BSCL
B20: Per la riduzione del peso dei sintomi misurata con la BSCL sono state considerate le seguenti covariate: BSCL complessiva (valore all’ammissione), gruppo di diagnosi, età all’ammissione, sesso, nazionalità, stato civile, istruzione, occupazione prima dell’ammissione, luogo di soggiorno prima dell’ammissione, istanza ricoverante, RSA, classe di cura, durata della degenza, numero di diagnosi secondarie e campo di attività. Nel modello sono state incluse tutte le covariate presenti e tutte le interazioni di primo grado disponibili. Le covariate esaminate, il fattore clinico e le interazioni hanno consentito di spiegare il 30.2% della varianza (R2adj).

Sheet 3A
A1: =Inhalt!A21 -> 3A | B1: =Inhalt!B21 -> Stichprobenbeschreibung | C1: =Inhalt!C21 -> Description de l'échantillon | D1: =Inhalt!D21 -> Descrizione del campione
B2: =Inhalt!B20 -> Kliniken zur Behandlung von Abhängigkeitserkrankungen | C2: =Inhalt!C20 -> Cliniques spécialisées dans le traitement des maladies de la dépendance | D2: =Inhalt!D20 -> Cliniche per la cura di dipendenze
E4: 2025 | F4: 2024
B5: Behandlungsfälle (Anzahl) | C5: Cas (nombre) | D5: Casi (numero) | E5: 3292 | F5: 2835
B6: Geschlecht (in %) | C6: Sexe (en %) | D6: Sesso (in %)
B7: Weiblich | C7: Féminin | D7: femminile | E7: 27.8 | F7: 26.6
B8: Männlich | C8: Masculin | D8: maschile | E8: 72.2 | F8: 73.4
B9: Alter bei Eintritt (Mittelwert in Jahren) | C9: Âge lors de l'admission (moyenne en années) | D9: Età all'ammissione (valore medio in anni) | E9: 42.1 | F9: 41.8
B10: Nationalität (in %) | C10: Nationalité (en %) | D10: Nazionalità (in %)
B11: Schweiz | C11: Suisse | D11: Svizzera | E11: 79.3 | F11: 84.9
B12: Andere Nationalitäten | C12: Autres nationalités | D12: Altre nazionalità | E12: 20.7 | F12: 14.8
B13: Aufenthaltsdauer (Mittelwert, SD in Tagen) | C13: Durée d’hospitalisation (moyenne, écart-type en jours) | D13: Durata della degenza (valore medio, deviazione standard in giorni) | E13: 43.5 (35.7) | F13: 41.8 (35.1)
B14: Behandlungsklasse (in %) | C14: Catégorie de prise en charge (en %) | D14: Categoria di degenza (in %)
B15: Allgemein | C15: Chambre commune | D15: Comune | E15: 99.4 | F15: 99.8
B16: Halbprivat | C16: Semi-privé | D16: Semiprivata | E16: 0.4 | F16: 0.2
B17: Privat | C17: Privé | D17: Privata | E17: 0.2 | F17: 0.1
B18: Aufenthaltsort vor dem Eintritt (in %) | C18: Séjour avant l'admission (en %) | D18: Luogo di residenza prima dell'ammissione (in %)
B19: Zuhause | C19: À la maison | D19: Domicilio | E19: 64.5 | F19: 64.9
B20: Anderes Krankenhaus (Akutspital) oder Geburtshaus | C20: Autre hôpital (soins aigus) ou maison de naissance | D20: Altro istituto ospedaliero (ospedale acuto) o casa per partorienti | E20: 3.4 | F20: 3.4
B21: Strafvollzugsanstalt | C21: Établissement d'éxécution des peines | D21: Penitenziario | E21: 0.2 | F21: 0.4
B22: Andere | C22: Autre | D22: Altro | E22: 31.9 | F22: 31.2
B23: Häufigste Hauptdiagnosen (in %) | C23: Diagnostics principaux les plus fréquents (en %) | D23: Diagnosi principali più frequenti (in %)
B24: F1 - Psychische Störungen durch psychotrope Substanzen | C24: F1 - Troubles mentaux par substances psycho-actives | D24: F1 - Disturbi psichici e comportamenti da uso di sostanze psicoattive | E24: 96.8 | F24: 99.3 (F1)
B25: F4 - Neurotische, Belastungs- und somatoforme Störung | C25: F4 - Troubles névrotiques | D25: F4 - Disturbi nevrotici, legati a stress e somatoformi | E25: 2.8 | F25: 0.4 (F6)
B26: F6 - Persönlichkeits- & Verhaltensstörungen | C26: F6 - Troubles de la personnalité et du comportement | D26: F6 - Disturbi della personalità e del comportamento nell'adulto | E26: 0.2 | F26: 0.2 (F2)
B27: Anzahl Nebendiagnosen (in %) | C27: Nombre de diagnostics supplémentaires (en %) | D27: Numero di diagnosi secondarie (in %)
B28: 0 | C28: 0 | D28: 0 | E28: 11.8 | F28: 1.7
B29: 1 | C29: 1 | D29: 1 | E29: 6.1 | F29: 4.7
B30: 2 | C30: 2 | D30: 2 | E30: 9.5 | F30: 9
B31: 3 | C31: 3 | D31: 3 | E31: 11.9 | F31: 11.4
B32: 4 | C32: 4 | D32: 4 | E32: 12.1 | F32: 13.3
B33: 5 | C33: 5 | D33: 5 | E33: 11.6 | F33: 12.6
B34: 6 | C34: 6 | D34: 6 | E34: 10.3 | F34: 12.2
B35: 7 | C35: 7 | D35: 7 | E35: 7.9 | F35: 8.9
B36: 8 | C36: 8 | D36: 8 | E36: 18.7 | F36: 26.2
B37: Schweregrad bei Eintritt - HoNOS Gesamtscore (Mittelwert, SD) | C37: Gravité à l’admission - score global HoNOS (moyenne, écart-type) | D37: Grado di gravità all'ammissione - punteggio complessivo HoNOS (valore medio, deviazione standard) | E37: 15.8 (6.7) | F37: 16.1 (6.8)
B38: Schweregrad bei Eintritt - BSCL Gesamtscore (Mittelwert, SD) | C38: Gravité à l’admission - score global BSCL (moyenne, écart-type) | D38: Grado di gravità all'ammissione - punteggio complessivo BSCL (valore medio, deviazione standard) | E38: 53.1 (37.1) | F38: 53.1 (37.8)
B39: Fürsorgerische Unterbringung (FU) bei Eintritt (in %) | C39: Placement à des fins d’assistance (PAFA) à l’admission (en %) | D39: Ricovero a scopo di assistenza (RSA) (in %) | E39: 0.1 | F39: 0
B40: Einweisende Instanz (in %) | C40: Instance décisionnaire de l’hospitalisation (en %) | D40: Istanza ricoverante (in %)
B41: Selbst, Angehörige | C41: Initiative propre, proches | D41: Paziente stesso, familiare | E41: 45.2 | F41: 48.4
...

Sheet 3B
A1: =Inhalt!A22 -> 3B | B1: =Inhalt!B22 -> Datenqualität | C1: =Inhalt!C22 -> Qualité des données | D1: =Inhalt!D22 -> Qualità dei dati
B2: =Inhalt!B20 -> Kliniken zur Behandlung von Abhängigkeitserkrankungen | C2: =Inhalt!C20 -> Cliniques spécialisées dans le traitement des maladies de la dépendance | D2: =Inhalt!D20 -> Cliniche per la cura di dipendenze

Sheet 3C
A1: =Inhalt!A23 -> 3C | B1: =Inhalt!B23 -> Symptombelastung | C1: =Inhalt!C23 -> Importance des symptômes | D1: =Inhalt!D23 -> Peso dei sintomi
B2: =Inhalt!B20 -> Kliniken zur Behandlung von Abhängigkeitserkrankungen | C2: =Inhalt!C20 -> Cliniques spécialisées dans le traitement des maladies de la dépendance | D2: =Inhalt!D20 -> Cliniche per la cura di dipendenze

Sheet 3D
A1: =Inhalt!A24 -> 3D | B1: =Inhalt!B24 -> Freiheitsbeschränkende Massnahmen | C1: =Inhalt!C24 -> Mesures limitatives de liberté | D1: =Inhalt!D24 -> Misura restrittiva della libertà
B2: =Inhalt!B20 -> Kliniken zur Behandlung von Abhängigkeitserkrankungen | C2: =Inhalt!C20 -> Cliniques spécialisées dans le traitement des maladies de la dépendance | D2: =Inhalt!D20 -> Cliniche per la cura di dipendenze

Sheet 3E
A1: =Inhalt!A25 -> 3E | B1: =Inhalt!B9 -> Analyse der Kovariablen und Modellspezifikation der Symptombelastung | C1: =Inhalt!C9 -> Analyse des covariables et des spécifications du modèle concernant la charge symptomatique | D1: =Inhalt!D9 -> Analisi delle covariabili e delle specifiche del modello relative al carico sintomatico
B2: =Inhalt!B20 -> Kliniken zur Behandlung von Abhängigkeitserkrankungen | C2: =Inhalt!C20 -> Cliniques spécialisées dans le traitement des maladies de la dépendance | D2: =Inhalt!D20 -> Cliniche per la cura di dipendenze
B4: Messergebnis Symptombelastung: HoNOS Vergleichsgrösse
B5: Für die mit dem HoNOS gemessene Symptombelastungsreduktion wurden folgende Kovariablen berücksichtigt: HoNOS Gesamt (Eintrittswert), Diagnosegruppe, Alter bei Eintritt, Geschlecht, Nationalität, Zivilstand, Bildungsstand, Beschäftigung vor Eintritt, Aufenthaltsort vor Eintritt, einweisende Instanz, FU, Behandlungsklasse, Aufenthaltsdauer, Anzahl Nebendiagnosen und Behandlungsbereich. Es wurden alle Kovariablen und sämtliche Interaktionen erster Ordnung ins Modell aufgenommen. Insgesamt wurden durch alle Variablen zusammen mit dem Klinikfaktor und den Interaktionen 38.5% der Varianz (R2adj) des Messergebnisses im HoNOS aufgeklärt.
B7: Messergebnis Symptombelastung: BSCL Vergleichsgrösse
B8: Für die mit dem BSCL gemessene Symptombelastungsreduktion wurden folgende Kovariablen berücksichtigt: BSCL Gesamt (Eintrittswert), Diagnosegruppe, Alter bei Eintritt, Geschlecht, Nationalität, Zivilstand, Bildungsstand, Beschäftigung vor Eintritt, Aufenthaltsort vor Eintritt, einweisende Instanz, FU, Behandlungsklasse, Aufenthaltsdauer, Anzahl Nebendiagnosen und Behandlungsbereich. Es wurden alle vorhandenen Kovariablen und sämtliche Interaktionen erster Ordnung ins Modell aufgenommen. Durch die geprüften Kovariablen zusammen mit dem Klinikfaktor und den Interaktionen konnten 49.0% der Varianz (R2adj) aufgeklärt werden.
B10: Résultats de mesure pour l’importance des symptômes : valeurs de comparaison HoNOS
B11: Les covariables suivantes ont été prises en compte pour la réduction de l’importance des symptômes mesurée par le HoNOS : HoNOS global (valeur à l’admission), diagnostic principal, âge à l’admission, sexe, nationalité, état civil, niveau d’éducation, occupation avant l’admission, lieu de séjour avant l’admission, décision d’envoi, PAFA, classe de traitement, durée de séjour, nombre des diagnostics supplémentaires et domaine de traitement. Toutes les covariables et toutes les interactions de premier ordre ont été incluses dans le modèle. Au total, toutes les variables, le facteur clinique et les interactions ont permis d'expliquer 38.5% de la variance (R2adj) du résultat de mesure pour HoNOS.
B13: Résultats de mesure pour l’importance des symptômes : valeurs de comparaison BSCL
B14: Les covariables suivantes ont été prises en compte pour la réduction de l’importance des symptômes mesurée par le BSCL : BSCL global (valeur à l’admission), diagnostic principal, âge à l’admission, sexe, nationalité, état civil, niveau d’éducation, occupation avant l’admission, lieu de séjour avant l’admission, décision d’envoi, PAFA, classe de traitement, durée de séjour, nombre des diagnostics supplémentaires et domaine de traitement. Toutes les covariables et toutes les interactions de premier ordre ont été incluses dans le modèle. Au total, toutes les variables, le facteur clinique et les interactions ont permis d'expliquer 49.0% de la variance (R2adj) du résultat de mesure pour BSCL.
B16: Risultato della misurazione del peso dei sintomi: valore comparativo HoNOS
B17: Per la riduzione del peso dei sintomi misurata con l’HoNOS sono state considerate le seguenti covariate: HoNOS complessivo (valore all’ammissione), gruppo di diagnosi, età all’ammissione, sesso, nazionalità, stato civile, istruzione, occupazione prima dell’ammissione, luogo di soggiorno prima dell’ammissione, istanza ricoverante, RSA, classe di cura, durata della degenza, numero di diagnosi secondarie e campo di attività. Nel modello sono state incluse tutte le covariate e le interazioni di primo grado disponibili. Nel complesso, le variabili, il fattore clinico e le interazioni hanno consentito di spiegare il 38.5% della varianza (R2adj) del risultato della misurazione con l’HoNOS.
B19: Risultato della misurazione del peso dei sintomi: valore comparativo BSCL
B20: Per la riduzione del peso dei sintomi misurata con la BSCL sono state considerate le seguenti covariate: BSCL complessiva (valore all’ammissione), gruppo di diagnosi, età all’ammissione, sesso, nazionalità, stato civile, istruzione, occupazione prima dell’ammissione, luogo di soggiorno prima dell’ammissione, istanza ricoverante, RSA, classe di cura, durata della degenza, numero di diagnosi secondarie e campo di attività. Nel modello sono state incluse tutte le covariate presenti e tutte le interazioni di primo grado disponibili. Le covariate esaminate, il fattore clinico e le interazioni hanno consentito di spiegare il 49.0% della varianza (R2adj).

Sheet 4A
A1: =Inhalt!A29 -> 4A | B1: =Inhalt!B29 -> Stichprobenbeschreibung | C1: =Inhalt!C29 -> Description de l'échantillon | D1: =Inhalt!D29 -> Descrizione del campione
B2: =Inhalt!B28 -> Kliniken der forensischen Psychiatrie | C2: =Inhalt!C28 -> Cliniques de psychiatrie forensique | D2: =Inhalt!D28 -> Cliniche di psichiatria forense
E4: 2025 | F4: 2024
B5: Behandlungsfälle (Anzahl) | C5: Cas (nombre) | D5: Casi (numero) | E5: 784 | F5: 725
B6: Geschlecht (in %) | C6: Sexe (en %) | D6: Sesso (in %)
B7: Weiblich | C7: Féminin | D7: femminile | E7: 12.8 | F7: 13.2
B8: Männlich | C8: Masculin | D8: maschile | E8: 87.2 | F8: 86.8
B9: Alter bei Eintritt (Mittelwert in Jahren) | C9: Âge lors de l'admission (moyenne en années) | D9: Età all'ammissione (valore medio in anni) | E9: 34.4 | F9: 35.1
B10: Nationalität (in %) | C10: Nationalité (en %) | D10: Nazionalità (in %)
B11: Schweiz | C11: Suisse | D11: Svizzera | E11: 44.5 | F11: 39.4
B12: Andere Nationalitäten | C12: Autres nationalités | D12: Altre nazionalità | E12: 46.8 | F12: 49.5
B13: Aufenthaltsdauer (Mittelwert, SD in Tagen) | C13: Durée d’hospitalisation (moyenne, écart-type en jours) | D13: Durata della degenza (valore medio, deviazione standard in giorni) | E13: 146.7 (357.2) | F13: 161.4 (392.1)
B14: Behandlungsklasse (in %) | C14: Catégorie de prise en charge (en %) | D14: Categoria di degenza (in %)
B15: Allgemein | C15: Chambre commune | D15: Comune | E15: 98.3 | F15: 100
B16: Halbprivat | C16: Semi-privé | D16: Semiprivata | E16: 0 | F16: 0
B17: Privat | C17: Privé | D17: Privata | E17: 0 | F17: 0
B18: Aufenthaltsort vor dem Eintritt (in %) | C18: Séjour avant l'admission (en %) | D18: Luogo di residenza prima dell'ammissione (in %)
B19: Zuhause | C19: À la maison | D19: Domicilio | E19: 2.3 | F19: 4.3
B20: Anderes Krankenhaus (Akutspital) oder Geburtshaus | C20: Autre hôpital (soins aigus) ou maison de naissance | D20: Altro istituto ospedaliero (ospedale acuto) o casa per partorienti | E20: 10.8 | F20: 9.5
B21: Strafvollzugsanstalt | C21: Établissement d'éxécution des peines | D21: Penitenziario | E21: 74.4 | F21: 72.7
B22: Andere | C22: Autre | D22: Altro | E22: 12.4 | F22: 13
B23: Häufigste Hauptdiagnosen (in %) | C23: Diagnostics principaux les plus fréquents (en %) | D23: Diagnosi principali più frequenti (in %)
B24: F2 - Schizophrene, schizotype und wahnhafte Störungen | C24: F2 - Schizophrénie, troubles schizotypiques et troubles délirants | D24: F2 - Schizofrenia, disturbo schizotipico e disturbi deliranti | E24: 59.4 | F24: 58.5 (F2)
B25: F6 - Persönlichkeits- & Verhaltensstörungen | C25: F6 - Troubles de la personnalité et du comportement | D25: F6 - Disturbi della personalità e del comportamento nell'adulto | E25: 13.9 | F25: 12.6 (F4)
B26: F4 - Neurotische, Belastungs- und somatoforme Störung | C26: F4 - Troubles névrotiques | D26: F4 - Disturbi nevrotici, legati a stress e somatoformi | E26: 10.2 | F26: 12.0 (F6)
B27: Anzahl Nebendiagnosen (in %) | C27: Nombre de diagnostics supplémentaires (en %) | D27: Numero di diagnosi secondarie (in %)
B28: 0 | C28: 0 | D28: 0 | E28: 20.7 | F28: 20.3
B29: 1 | C29: 1 | D29: 1 | E29: 20.9 | F29: 20.6
B30: 2 | C30: 2 | D30: 2 | E30: 18.5 | F30: 15.6
B31: 3 | C31: 3 | D31: 3 | E31: 11 | F31: 13.4
B32: 4 | C32: 4 | D32: 4 | E32: 8.2 | F32: 9.2
B33: 5 | C33: 5 | D33: 5 | E33: 6.1 | F33: 6.3
B34: 6 | C34: 6 | D34: 6 | E34: 4.3 | F34: 4.3
B35: 7 | C35: 7 | D35: 7 | E35: 2.3 | F35: 1.9
B36: 8 | C36: 8 | D36: 8 | E36: 8 | F36: 8.4
B37: Schweregrad bei Eintritt - HoNOS Gesamtscore (Mittelwert, SD) | C37: Gravité à l’admission - score global HoNOS (moyenne, écart-type) | D37: Grado di gravità all'ammissione - punteggio complessivo HoNOS (valore medio, deviazione standard) | E37: 21.6 (9.1) | F37: 21.7 (8.6)
B38: Fürsorgerische Unterbringung (FU) bei Eintritt (in %) | C38: Placement à des fins d’assistance (PAFA) à l’admission (en %) | D38: Ricovero a scopo di assistenza (RSA) (in %) | E38: 26.9 | F38: 29.8
B39: Einweisende Instanz (in %) | C39: Instance décisionnaire de l’hospitalisation (en %) | D39: Istanza ricoverante (in %)
B40: Selbst, Angehörige | C40: Initiative propre, proches | D40: Paziente stesso, familiare | E40: 0.4 | F40: 0.7
B41: Arzt | C41: Médecin | D41: Medico | E41: 16.8 | F41: 18.9
...

Sheet 4B
A1: =Inhalt!A30 -> 4B | B1: =Inhalt!B30 -> Datenqualität | C1: =Inhalt!C22 -> Qualité des données | D1: =Inhalt!D22 -> Qualità dei dati
B2: =Inhalt!B28 -> Kliniken der forensischen Psychiatrie | C2: =Inhalt!C28 -> Cliniques de psychiatrie forensique | D2: =Inhalt!D28 -> Cliniche di psichiatria forense

Sheet 4C
A1: =Inhalt!A31 -> 4C | B1: =Inhalt!B31 -> Symptombelastung | C1: =Inhalt!C31 -> Importance des symptômes | D1: =Inhalt!D31 -> Peso dei sintomi
B2: =Inhalt!B28 -> Kliniken der forensischen Psychiatrie | C2: =Inhalt!C28 -> Cliniques de psychiatrie forensique | D2: =Inhalt!D28 -> Cliniche di psichiatria forense

Sheet 4D
A1: =Inhalt!A32 -> 4D | B1: =Inhalt!B32 -> Freiheitsbeschränkende Massnahmen | C1: =Inhalt!C32 -> Mesures limitatives de liberté | D1: =Inhalt!D32 -> Misura restrittiva della libertà
B2: =Inhalt!B28 -> Kliniken der forensischen Psychiatrie | C2: =Inhalt!C28 -> Cliniques de psychiatrie forensique | D2: =Inhalt!D28 -> Cliniche di psichiatria forense

Sheet 4E
A1: =Inhalt!A33 -> 4E | B1: =Inhalt!B9 -> Analyse der Kovariablen und Modellspezifikation der Symptombelastung | C1: =Inhalt!C9 -> Analyse des covariables et des spécifications du modèle concernant la charge symptomatique | D1: =Inhalt!D9 -> Analisi delle covariabili e delle specifiche del modello relative al carico sintomatico
B2: =Inhalt!B28 -> Kliniken der forensischen Psychiatrie | C2: =Inhalt!C28 -> Cliniques de psychiatrie forensique | D2: =Inhalt!D28 -> Cliniche di psichiatria forense
B4: Messergebnis Symptombelastung: HoNOS Vergleichsgrösse
B5: Für die mit dem HoNOS gemessene Symptombelastungsreduktion wurden folgende Kovariablen berücksichtigt: HoNOS Gesamt (Eintrittswert), Diagnosegruppe, Alter bei Eintritt, Geschlecht, Nationalität, Zivilstand, Bildungsstand, Beschäftigung vor Eintritt, Aufenthaltsort vor Eintritt, einweisende Instanz, FU, Behandlungsklasse, Aufenthaltsdauer, Anzahl Nebendiagnosen und Behandlungsbereich. Es wurden alle Kovariablen und sämtliche Interaktionen erster Ordnung ins Modell aufgenommen. Insgesamt wurden durch alle Variablen zusammen mit dem Klinikfaktor und den Interaktionen 68.5% der Varianz (R2adj) des Messergebnisses im HoNOS aufgeklärt.
B7: Résultats de mesure pour l’importance des symptômes : valeurs de comparaison HoNOS
B8: Les covariables suivantes ont été prises en compte pour la réduction de l’importance des symptômes mesurée par le HoNOS : HoNOS global (valeur à l’admission), diagnostic principal, âge à l’admission, sexe, nationalité, état civil, niveau d’éducation, occupation avant l’admission, lieu de séjour avant l’admission, décision d’envoi, PAFA, classe de traitement, durée de séjour, nombre des diagnostics supplémentaires et domaine de traitement. Toutes les covariables et toutes les interactions de premier ordre ont été incluses dans le modèle. Au total, toutes les variables, le facteur clinique et les interactions ont permis d'expliquer 68.5% de la variance (R2adj) du résultat de mesure pour HoNOS.
B10: Risultato della misurazione del peso dei sintomi: valore comparativo HoNOS
B11: Per la riduzione del peso dei sintomi misurata con l’HoNOS sono state considerate le seguenti covariate: HoNOS complessivo (valore all’ammissione), gruppo di diagnosi, età all’ammissione, sesso, nazionalità, stato civile, istruzione, occupazione prima dell’ammissione, luogo di soggiorno prima dell’ammissione, istanza ricoverante, RSA, classe di cura, durata della degenza, numero di diagnosi secondarie e campo di attività. Nel modello sono state incluse tutte le covariate e le interazioni di primo grado disponibili. Nel complesso, le variabili, il fattore clinico e le interazioni hanno consentito di spiegare il 68.5% della varianza (R2adj) del risultato della misurazione con l’HoNOS.

Sheet 5A
A1: =Inhalt!A37 -> 5A | B1: =Inhalt!B37 -> Stichprobenbeschreibung | C1: =Inhalt!C37 -> Description de l'échantillon | D1: =Inhalt!D37 -> Descrizione del campione
B2: =Inhalt!B36 -> Alterspsychiatrie | C2: =Inhalt!C36 -> Psychiatrie gériatrique | D2: =Inhalt!D36 -> Psichiatria geriatrica
E4: 2025 | F4: 2024
B5: Behandlungsfälle (Anzahl) | C5: Cas (nombre) | D5: Casi (numero) | E5: 11664 | F5: 11519
B6: Geschlecht (in %) | C6: Sexe (en %) | D6: Sesso (in %)
B7: Weiblich | C7: Féminin | D7: femminile | E7: 56 | F7: 57.2
B8: Männlich | C8: Masculin | D8: maschile | E8: 44 | F8: 42.8
B9: Alter bei Eintritt (Mittelwert in Jahren) | C9: Âge lors de l'admission (moyenne en années) | D9: Età all'ammissione (valore medio in anni) | E9: 74.9 | F9: 74.9
B10: Nationalität (in %) | C10: Nationalité (en %) | D10: Nazionalità (in %)
B11: Schweiz | C11: Suisse | D11: Svizzera | E11: 86.6 | F11: 85.4
B12: Andere Nationalitäten | C12: Autres nationalités | D12: Altre nazionalità | E12: 11.9 | F12: 10.9
B13: Aufenthaltsdauer (Mittelwert, SD in Tagen) | C13: Durée d’hospitalisation (moyenne, écart-type en jours) | D13: Durata della degenza (valore medio, deviazione standard in giorni) | E13: 37.5 (36.1) | F13: 37.6 (49.3)
B14: Behandlungsklasse (in %) | C14: Catégorie de prise en charge (en %) | D14: Categoria di degenza (in %)
B15: Allgemein | C15: Chambre commune | D15: Comune | E15: 92.4 | F15: 92.2
B16: Halbprivat | C16: Semi-privé | D16: Semiprivata | E16: 4.8 | F16: 4.7
B17: Privat | C17: Privé | D17: Privata | E17: 2.4 | F17: 3
B18: Aufenthaltsort vor dem Eintritt (in %) | C18: Séjour avant l'admission (en %) | D18: Luogo di residenza prima dell'ammissione (in %)
B19: Zuhause | C19: À la maison | D19: Domicilio | E19: 34.2 | F19: 36.1
B20: Anderes Krankenhaus (Akutspital) oder Geburtshaus | C20: Autre hôpital (soins aigus) ou maison de naissance | D20: Altro istituto ospedaliero (ospedale acuto) o casa per partorienti | E20: 29.9 | F20: 27.9
B21: Strafvollzugsanstalt | C21: Établissement d'éxécution des peines | D21: Penitenziario | E21: 0.1 | F21: 0.1
B22: Andere | C22: Autre | D22: Altro | E22: 35.8 | F22: 35.7
B23: Häufigste Hauptdiagnosen (in %) | C23: Diagnostics principaux les plus fréquents (en %) | D23: Diagnosi principali più frequenti (in %)
B24: F0 - Organische Störungen | C24: F0 - Troubles mentaux organiques | D24: F0 - Disturbi psichici di natura organica | E24: 32.2 | F24: 33.9
B25: F3 - Affektive Störungen | C25: F3 - Troubles de l'humeur (affectifs) | D25: F3 - Disturbi dell'umore | E25: 32.1 | F25: 32.4
B26: F2 - Schizophrene, schizotype und wahnhafte Störungen | C26: F2 - Schizophrénie, troubles schizotypiques et troubles délirants | D26: F2 - Schizofrenia, disturbo schizotipico e disturbi deliranti | E26: 11.1 | F26: 11.4
B27: Anzahl Nebendiagnosen (in %) | C27: Nombre de diagnostics supplémentaires (en %) | D27: Numero di diagnosi secondarie (in %)
B28: 0 | C28: 0 | D28: 0 | E28: 1.9 | F28: 3.2
B29: 1 | C29: 1 | D29: 1 | E29: 2.9 | F29: 3.7
B30: 2 | C30: 2 | D30: 2 | E30: 4.8 | F30: 5.9
B31: 3 | C31: 3 | D31: 3 | E31: 6.1 | F31: 7.4
B32: 4 | C32: 4 | D32: 4 | E32: 7.8 | F32: 8.4
B33: 5 | C33: 5 | D33: 5 | E33: 9.2 | F33: 9.2
B34: 6 | C34: 6 | D34: 6 | E34: 8.6 | F34: 9.8
B35: 7 | C35: 7 | D35: 7 | E35: 8.8 | F35: 8.8
B36: 8 | C36: 8 | D36: 8 | E36: 49.9 | F36: 43.5
B37: Schweregrad bei Eintritt - HoNOS Gesamtscore (Mittelwert, SD) | C37: Gravité à l’admission - score global HoNOS (moyenne, écart-type) | D37: Grado di gravità all'ammissione - punteggio complessivo HoNOS (valore medio, deviazione standard) | E37: 22.3 (7.8) | F37: 22.2 (7.8)
B38: Fürsorgerische Unterbringung (FU) bei Eintritt (in %) | C38: Placement à des fins d’assistance (PAFA) à l’admission (en %) | D38: Ricovero a scopo di assistenza (RSA) (in %) | E38: 45.7 | F38: 43.6
B39: Einweisende Instanz (in %) | C39: Instance décisionnaire de l’hospitalisation (en %) | D39: Istanza ricoverante (in %)
B40: Selbst, Angehörige | C40: Initiative propre, proches | D40: Paziente stesso, familiare | E40: 7.3 | F40: 8.1
B41: Arzt | C41: Médecin | D41: Medico | E41: 87.5 | F41: 87.4
...

Sheet 5B
A1: =Inhalt!A38 -> 5B | B1: =Inhalt!B38 -> Datenqualität | C1: =Inhalt!C38 -> Qualité des données | D1: =Inhalt!D38 -> Qualità dei dati
B2: =Inhalt!B36 -> Alterspsychiatrie | C2: =Inhalt!C36 -> Psychiatrie gériatrique | D2: =Inhalt!D36 -> Psichiatria geriatrica

Sheet 5C
A1: =Inhalt!A39 -> 5C | B1: =Inhalt!B23 -> Symptombelastung | C1: =Inhalt!C23 -> Importance des symptômes | D1: =Inhalt!D23 -> Peso dei sintomi
B2: =Inhalt!B36 -> Alterspsychiatrie | C2: =Inhalt!C36 -> Psychiatrie gériatrique | D2: =Inhalt!D36 -> Psichiatria geriatrica

Sheet 5D
A1: =Inhalt!A40 -> 5D | B1: =Inhalt!B39 -> Symptombelastung | C1: =Inhalt!C39 -> Importance des symptômes | D1: =Inhalt!D39 -> Peso dei sintomi
B2: =Inhalt!B36 -> Alterspsychiatrie | C2: =Inhalt!C36 -> Psychiatrie gériatrique | D2: =Inhalt!D36 -> Psichiatria geriatrica

Sheet 5E
A1: =Inhalt!A41 -> 5E | B1: =Inhalt!B9 -> Analyse der Kovariablen und Modellspezifikation der Symptombelastung | C1: =Inhalt!C9 -> Analyse des covariables et des spécifications du modèle concernant la charge symptomatique | D1: =Inhalt!D9 -> Analisi delle covariabili e delle specifiche del modello relative al carico sintomatico
B2: =Inhalt!B36 -> Alterspsychiatrie | C2: =Inhalt!C36 -> Psychiatrie gériatrique | D2: =Inhalt!D36 -> Psichiatria geriatrica
B4: Messergebnis Symptombelastung: HoNOS Vergleichsgrösse
B5: Für die mit dem HoNOS gemessene Symptombelastungsreduktion wurden folgende Kovariablen berücksichtigt: HoNOS Gesamt (Eintrittswert), Diagnosegruppe, Alter bei Eintritt, Geschlecht, Nationalität, Zivilstand, Bildungsstand, Beschäftigung vor Eintritt, Aufenthaltsort vor Eintritt, einweisende Instanz, FU, Behandlungsklasse, Aufenthaltsdauer, Anzahl Nebendiagnosen und Behandlungsbereich. Es wurden alle Kovariablen und sämtliche Interaktionen erster Ordnung ins Modell aufgenommen. Insgesamt wurden durch alle Variablen zusammen mit dem Klinikfaktor und den Interaktionen 45.3% der Varianz (R2adj) des Messergebnisses im HoNOS aufgeklärt.
B7: Résultats de mesure pour l’importance des symptômes : valeurs de comparaison HoNOS
B8: Les covariables suivantes ont été prises en compte pour la réduction de l’importance des symptômes mesurée par le HoNOS : HoNOS global (valeur à l’admission), diagnostic principal, âge à l’admission, sexe, nationalité, état civil, niveau d’éducation, occupation avant l’admission, lieu de séjour avant l’admission, décision d’envoi, PAFA, classe de traitement, durée de séjour, nombre des diagnostics supplémentaires et domaine de traitement. Toutes les covariables et toutes les interactions de premier ordre ont été incluses dans le modèle. Au total, toutes les variables, le facteur clinique et les interactions ont permis d'expliquer 45.3% de la variance (R2adj) du résultat de mesure pour HoNOS.
B10: Risultato della misurazione del peso dei sintomi: valore comparativo HoNOS
B11: Per la riduzione del peso dei sintomi misurata con l’HoNOS sono state considerate le seguenti covariate: HoNOS complessivo (valore all’ammissione), gruppo di diagnosi, età all’ammissione, sesso, nazionalità, stato civile, istruzione, occupazione prima dell’ammissione, luogo di soggiorno prima dell’ammissione, istanza ricoverante, RSA, classe di cura, durata della degenza, numero di diagnosi secondarie e campo di attività. Nel modello sono state incluse tutte le covariate e le interazioni di primo grado disponibili. Nel complesso, le variabili, il fattore clinico e le interazioni hanno consentito di spiegare il 45.3% della varianza (R2adj) del risultato della misurazione con l’HoNOS.

Sheet 6A
A1: =Inhalt!A45 -> 6A | B1: =Inhalt!B45 -> Stichprobenbeschreibung | C1: =Inhalt!C45 -> Description de l'échantillon | D1: =Inhalt!D45 -> Descrizione del campione
B2: =Inhalt!B44 -> Kinder- und Jugendpsychiatrie | C2: =Inhalt!C44 -> Psychiatrie d'enfants et d'adolescents | D2: =Inhalt!D44 -> Psichiatria infantile e adolescenziale
E4: 2025 | F4: 2024
B5: Behandlungsfälle (Anzahl) | C5: Cas (nombre) | D5: Casi (numero) | E5: 6364 | F5: 5676
B6: Geschlecht (in %) | C6: Sexe (en %) | D6: Sesso (in %)
B7: Weiblich | C7: Féminin | D7: femminile | E7: 70.4 | F7: 71.2
B8: Männlich | C8: Masculin | D8: maschile | E8: 29.6 | F8: 28.8
B9: Alter bei Eintritt (Mittelwert in Jahren) | C9: Âge lors de l'admission (moyenne en années) | D9: Età all'ammissione (valore medio in anni) | E9: 14.7 | F9: 14.3
B10: Nationalität (in %) | C10: Nationalité (en %) | D10: Nazionalità (in %)
B11: Schweiz | C11: Suisse | D11: Svizzera | E11: 79.9 | F11: 79.4
B12: Andere Nationalitäten | C12: Autres nationalités | D12: Altre nazionalità | E12: 19.9 | F12: 20.1
B13: Aufenthaltsdauer (Mittelwert, SD in Tagen) | C13: Durée d’hospitalisation (moyenne, écart-type en jours) | D13: Durata della degenza (valore medio, deviazione standard in giorni) | E13: 29.7 (39.4) | F13: 30.8 (42.2)
B14: Aufenthaltsort vor dem Eintritt (in %) | C14: Séjour avant l'admission (en %) | D14: Luogo di residenza prima dell'ammissione (in %)
B15: Zuhause | C15: À la maison | D15: Domicilio | E15: 61 | F15: 58.9
B16: Anderes Krankenhaus (Akutspital) oder Geburtshaus | C16: Autre hôpital (soins aigus) ou maison de naissance | D16: Altro istituto ospedaliero (ospedale acuto) o casa per partorienti | E16: 13.3 | F16: 13.8
B17: Strafvollzugsanstalt | C17: Établissement d'éxécution des peines | D17: Penitenziario | E17: 0.1 | F17: 0.2
B18: Andere | C18: Autre | D18: Altro | E18: 25.7 | F18: 27.2
B19: Häufigste Hauptdiagnosen (in %) | C19: Diagnostics principaux les plus fréquents (en %) | D19: Diagnosi principali più frequenti (in %)
B20: F3 - Affektive Störungen | C20: F3 - Troubles de l'humeur (affectifs) | D20: F3 - Disturbi dell'umore | E20: 40.6 | F20: 42.1
B21: F4 - Neurotische, Belastungs- und somatoforme Störung | C21: F4 - Troubles névrotiques | D21: F4 - Disturbi nevrotici, legati a stress e somatoformi | E21: 19.4 | F21: 19.4
B22: F9 - Verhaltens- und emotionale Störungen mit Beginn in Kindheit und Jugend | C22: F9 - Troubles du comportement et émotionnels dès enfance ou adolescence | D22: F9 - Disturbi comportamentali e della sfera emozionale con esordio abituale nell'infanzia e nell'adolescenza | E22: 15.4 | F22: 14.2
B23: Anzahl Nebendiagnosen (in %) | C23: Nombre de diagnostics supplémentaires (en %) | D23: Numero di diagnosi secondarie (in %)
B24: 0 | C24: 0 | D24: 0 | E24: 20.6 | F24: 21.7
B25: 1 | C25: 1 | D25: 1 | E25: 23.6 | F25: 23.4
B26: 2 | C26: 2 | D26: 2 | E26: 18.4 | F26: 19.2
B27: 3 | C27: 3 | D27: 3 | E27: 12.9 | F27: 12.7
B28: 4 | C28: 4 | D28: 4 | E28: 8.4 | F28: 8.6
B29: 5 | C29: 5 | D29: 5 | E29: 5.8 | F29: 5.3
B30: 6 | C30: 6 | D30: 6 | E30: 3.5 | F30: 3.4
B31: 7 | C31: 7 | D31: 7 | E31: 2.5 | F31: 2
B32: 8 | C32: 8 | D32: 8 | E32: 4.4 | F32: 3.8
B33: Schweregrad bei Eintritt - HoNOSCA Gesamtscore (Mittelwert, SD) | C33: Gravité à l’admission - score global HoNOSCA (moyenne, écart-type) | D33: Grado di gravità all'ammissione - punteggio complessivo HoNOSCA (valore medio, deviazione standard) | E33: 19.4 (7.2) | F33: 19.5 (7.1)
B34: Schweregrad bei Eintritt - HoNOSCA-SR Gesamtscore (Mittelwert, SD) | C34: Gravité à l’admission - score global HoNOSCA-SR (moyenne, écart-type) | D34: Grado di gravità all'ammissione - punteggio complessivo HoNOSCA-SR (valore medio, deviazione standard) | E34: 21.8 (9.3) | F34: 22.1 (9.4)
B35: Fürsorgerische Unterbringung (FU) bei Eintritt (in %) | C35: Placement à des fins d’assistance (PAFA) à l’admission (en %) | D35: Ricovero a scopo di assistenza (RSA) (in %) | E35: 18 | F35: 17.5
B36: Einweisende Instanz (in %) | C36: Instance décisionnaire de l’hospitalisation (en %) | D36: Istanza ricoverante (in %)
B37: Selbst, Angehörige | C37: Initiative propre, proches | D37: Paziente stesso, familiare | E37: 8.8 | F37: 11.5
B38: Arzt | C38: Médecin | D38: Medico | E38: 80.5 | F38: 79.2
B39: Justizbehörde | C39: Autorités judiciaires | D39: Autorità giudiziarie | E39: 0.3 | F39: 0.3
B40: Andere | C40: Autre | D40: Altro | E40: 8.1 | F40: 8.9

Sheet 6B
A1: =Inhalt!A46 -> 6B | B1: =Inhalt!B46 -> Datenqualität | C1: =Inhalt!C46 -> Qualité des données | D1: =Inhalt!D46 -> Qualità dei dati
B2: =Inhalt!B44 -> Kinder- und Jugendpsychiatrie | C2: =Inhalt!C44 -> Psychiatrie d'enfants et d'adolescents | D2: =Inhalt!D44 -> Psichiatria infantile e adolescenziale

Sheet 6C
A1: =Inhalt!A47 -> 6C | B1: =Inhalt!B47 -> Symptombelastung | C1: =Inhalt!C47 -> Importance des symptômes | D1: =Inhalt!D47 -> Peso dei sintomi
B2: =Inhalt!B44 -> Kinder- und Jugendpsychiatrie | C2: =Inhalt!C44 -> Psychiatrie d'enfants et d'adolescents | D2: =Inhalt!D44 -> Psichiatria infantile e adolescenziale

Sheet 6D
A1: =Inhalt!A48 -> 6D | B1: =Inhalt!B48 -> Freiheitsbeschränkende Massnahmen | C1: =Inhalt!C48 -> Mesures limitatives de liberté | D1: =Inhalt!D48 -> Misura restrittiva della libertà
B2: =Inhalt!B44 -> Kinder- und Jugendpsychiatrie | C2: =Inhalt!C44 -> Psychiatrie d'enfants et d'adolescents | D2: =Inhalt!D44 -> Psichiatria infantile e adolescenziale

Sheet 6E
A1: =Inhalt!A49 -> 6E | B1: =Inhalt!B49 -> Analyse der Kovariablen und Modellspezifikation der Symptombelastung | C1: =Inhalt!C49 -> Analyse des covariables et des spécifications du modèle concernant la charge symptomatique | D1: =Inhalt!D49 -> Analisi delle covariabili e delle specifiche del modello relative al carico sintomatico
B2: =Inhalt!B44 -> Kinder- und Jugendpsychiatrie | C2: =Inhalt!C44 -> Psychiatrie d'enfants et d'adolescents | D2: =Inhalt!D44 -> Psichiatria infantile e adolescenziale
B4: Messergebnis Symptombelastung: HoNOSCA Vergleichsgrösse
B5: Für die mit dem HoNOSCA gemessene Symptombelastungsreduktion wurden folgende Kovariablen berücksichtigt: Alter bei Eintritt, Geschlecht, Diagnosegruppe, HoNOSCA Gesamt (Eintrittswert), FU, Nationalität, Aufenthaltsort vor Eintritt, einweisende Instanz, Eintrittsart, Aufenthaltsdauer, Anzahl Nebendiagnosen und Behandlungsbereich. Auf Basis der vorhandenen Fallzahlen wurden 19 Interaktionen ins Modell aufgenommen, die anhand der Daten des Vorjahres selektiert wurden. Insgesamt wurden durch alle Variablen zusammen mit dem Klinikfaktor und den Interaktionen 35.3% der Varianz (R2adj) des Messergebnisses im HoNOSCA aufgeklärt.
B7: Messergebnis Symptombelastung: HoNOSCA-SR Vergleichsgrösse
